BEGIN:VCALENDAR
PRODID:-//Solspace/Calendar 2.x//EN
VERSION:2.0
CALSCALE:GREGORIAN
BEGIN:VEVENT
UID:6f6c439723440de935ca6c1e83cd7554@solspace.com
DTSTAMP:20260422T074047
DTSTART;VALUE=DATE:20250627
DTEND;VALUE=DATE:20250630
SUMMARY:2025 ASCE Civil Engineering Student Championships
END:VEVENT
END:VCALENDAR
